BEGIN:VCALENDAR
VERSION:2.0
PRODID:-//SABLE Stitchers Home Page - ECPv6.15.20//NONSGML v1.0//EN
CALSCALE:GREGORIAN
METHOD:PUBLISH
X-WR-CALNAME:SABLE Stitchers Home Page
X-ORIGINAL-URL:https://sablestitcher.net
X-WR-CALDESC:Events for SABLE Stitchers Home Page
REFRESH-INTERVAL;VALUE=DURATION:PT1H
X-Robots-Tag:noindex
X-PUBLISHED-TTL:PT1H
BEGIN:VTIMEZONE
TZID:UTC
BEGIN:STANDARD
TZOFFSETFROM:+0000
TZOFFSETTO:+0000
TZNAME:UTC
DTSTART:20250101T000000
END:STANDARD
END:VTIMEZONE
BEGIN:VEVENT
DTSTART;TZID=UTC:20260417T080000
DTEND;TZID=UTC:20260419T170000
DTSTAMP:20260423T084901
CREATED:20251023T135532Z
LAST-MODIFIED:20251023T135532Z
UID:2386-1776412800-1776618000@sablestitcher.net
SUMMARY:Stitch West April
DESCRIPTION:Wait List Available here https://docs.google.com/forms/d/e/1FAIpQLSeUjUmi1K1DfXUCXVwm-R0Vz_FnU5H_1exShIDd_6jJcQudtg/viewform?pli=1 \nDesigner is Beth Seal from Summer House Stitche Workes
URL:https://sablestitcher.net/event/stitch-west-april
LOCATION:Courtyard Marriott Ogden\, 247 24th Street\, Ogden\, UT\, 84401\, United States
ORGANIZER;CN="Snug Harbor Crafts":MAILTO:snugharborcrafts@gmail.com
END:VEVENT
BEGIN:VEVENT
DTSTART;TZID=UTC:20260417T090000
DTEND;TZID=UTC:20260419T140000
DTSTAMP:20260423T084901
CREATED:20260131T172053Z
LAST-MODIFIED:20260311T133227Z
UID:2417-1776416400-1776607200@sablestitcher.net
SUMMARY:Tropi-Cat Stitchin' Retreat
DESCRIPTION:Registration Open:  Registration includes stitching room\, lunch on Friday and Saturday\, snacks on Friday and Saturday\, all day drink bar Friday\, Saturday and Sunday\, exclusive retreat chart and loaded swag bag\, plus games\, door prizes\, optional smalls exchange. \nBlock rate rooms are available at the hotel for out-of-town participants.
URL:https://sablestitcher.net/event/tropi-cat-stitchin-retreat
LOCATION:Hilton Garden Inn Columbia/Harbison\, 434 Columbiana Drive\, Columbia\, SC\, 29212\, United States
END:VEVENT
END:VCALENDAR